BEGIN:VCALENDAR
VERSION:2.0
PRODID:-//California Marine Affairs &amp; Navigation Conference - ECPv6.15.19//NONSGML v1.0//EN
CALSCALE:GREGORIAN
METHOD:PUBLISH
X-WR-CALNAME:California Marine Affairs &amp; Navigation Conference
X-ORIGINAL-URL:https://cmanc.org
X-WR-CALDESC:Events for California Marine Affairs &amp; Navigation Conference
REFRESH-INTERVAL;VALUE=DURATION:PT1H
X-Robots-Tag:noindex
X-PUBLISHED-TTL:PT1H
BEGIN:VTIMEZONE
TZID:UTC
BEGIN:STANDARD
TZOFFSETFROM:+0000
TZOFFSETTO:+0000
TZNAME:UTC
DTSTART:20200101T000000
END:STANDARD
END:VTIMEZONE
BEGIN:VEVENT
DTSTART;VALUE=DATE:20210916
DTEND;VALUE=DATE:20210917
DTSTAMP:20260419T151143
CREATED:20231110T191046Z
LAST-MODIFIED:20231110T191046Z
UID:1082-1631750400-1631836799@cmanc.org
SUMMARY:CMANC Fall Virtual Meeting I
DESCRIPTION:2021 Fall Virtual Meeting I Agenda
URL:https://cmanc.org/event/cmanc-fall-virtual-meeting-i-2/
END:VEVENT
BEGIN:VEVENT
DTSTART;VALUE=DATE:20210930
DTEND;VALUE=DATE:20211001
DTSTAMP:20260419T151143
CREATED:20231110T190939Z
LAST-MODIFIED:20231110T190939Z
UID:1079-1632960000-1633046399@cmanc.org
SUMMARY:CMANC Fall Virtual Meeting II
DESCRIPTION:2021 Fall Virtual Meeting II Agenda
URL:https://cmanc.org/event/cmanc-fall-virtual-meeting-ii-2/
END:VEVENT
END:VCALENDAR