BEGIN:VCALENDAR
VERSION:2.0
PRODID:-//California Marine Affairs &amp; Navigation Conference - ECPv6.15.19//NONSGML v1.0//EN
CALSCALE:GREGORIAN
METHOD:PUBLISH
X-ORIGINAL-URL:https://cmanc.org
X-WR-CALDESC:Events for California Marine Affairs &amp; Navigation Conference
REFRESH-INTERVAL;VALUE=DURATION:PT1H
X-Robots-Tag:noindex
X-PUBLISHED-TTL:PT1H
BEGIN:VTIMEZONE
TZID:UTC
BEGIN:STANDARD
TZOFFSETFROM:+0000
TZOFFSETTO:+0000
TZNAME:UTC
DTSTART:20200101T000000
END:STANDARD
END:VTIMEZONE
BEGIN:VEVENT
DTSTART;VALUE=DATE:20210225
DTEND;VALUE=DATE:20210227
DTSTAMP:20260420T050501
CREATED:20211008T195404Z
LAST-MODIFIED:20211008T195609Z
UID:902-1614211200-1614383999@cmanc.org
SUMMARY:Washington Week
DESCRIPTION:2021 Washington Week Agenda \n2021 Washington Week Leave Behind
URL:https://cmanc.org/event/washington-week-february-25-26-2021/
LOCATION:Virtual
END:VEVENT
END:VCALENDAR