BEGIN:VCALENDAR
VERSION:2.0
PRODID:-//California Marine Affairs &amp; Navigation Conference - ECPv6.15.19//NONSGML v1.0//EN
CALSCALE:GREGORIAN
METHOD:PUBLISH
X-WR-CALNAME:California Marine Affairs &amp; Navigation Conference
X-ORIGINAL-URL:https://cmanc.org
X-WR-CALDESC:Events for California Marine Affairs &amp; Navigation Conference
REFRESH-INTERVAL;VALUE=DURATION:PT1H
X-Robots-Tag:noindex
X-PUBLISHED-TTL:PT1H
BEGIN:VTIMEZONE
TZID:UTC
BEGIN:STANDARD
TZOFFSETFROM:+0000
TZOFFSETTO:+0000
TZNAME:UTC
DTSTART:20200101T000000
END:STANDARD
END:VTIMEZONE
BEGIN:VEVENT
DTSTART;VALUE=DATE:20210916
DTEND;VALUE=DATE:20210917
DTSTAMP:20260420T030042
CREATED:20231110T191046Z
LAST-MODIFIED:20231110T191046Z
UID:1082-1631750400-1631836799@cmanc.org
SUMMARY:CMANC Fall Virtual Meeting I
DESCRIPTION:2021 Fall Virtual Meeting I Agenda
URL:https://cmanc.org/event/cmanc-fall-virtual-meeting-i-2/
END:VEVENT
BEGIN:VEVENT
DTSTART;VALUE=DATE:20210930
DTEND;VALUE=DATE:20211001
DTSTAMP:20260420T030042
CREATED:20231110T190939Z
LAST-MODIFIED:20231110T190939Z
UID:1079-1632960000-1633046399@cmanc.org
SUMMARY:CMANC Fall Virtual Meeting II
DESCRIPTION:2021 Fall Virtual Meeting II Agenda
URL:https://cmanc.org/event/cmanc-fall-virtual-meeting-ii-2/
END:VEVENT
BEGIN:VEVENT
DTSTART;VALUE=DATE:20220120
DTEND;VALUE=DATE:20220121
DTSTAMP:20260420T030042
CREATED:20231110T191136Z
LAST-MODIFIED:20231110T191136Z
UID:1085-1642636800-1642723199@cmanc.org
SUMMARY:CMANC Winter Virtual Meeting
DESCRIPTION:2022 Winter Virtual Meeting Agenda
URL:https://cmanc.org/event/cmanc-winter-virtual-meeting/
END:VEVENT
BEGIN:VEVENT
DTSTART;VALUE=DATE:20220224
DTEND;VALUE=DATE:20220225
DTSTAMP:20260420T030042
CREATED:20231110T191221Z
LAST-MODIFIED:20231110T191221Z
UID:1088-1645660800-1645747199@cmanc.org
SUMMARY:CMANC Washington Virtual Meeting
DESCRIPTION:2022 Washington Virtual Meeting Agenda
URL:https://cmanc.org/event/cmanc-washington-virtual-meeting/
END:VEVENT
BEGIN:VEVENT
DTSTART;VALUE=DATE:20220518
DTEND;VALUE=DATE:20220521
DTSTAMP:20260420T030042
CREATED:20231110T191311Z
LAST-MODIFIED:20231110T191311Z
UID:1091-1652832000-1653091199@cmanc.org
SUMMARY:CMANC Spring Meeting
DESCRIPTION:2022 Spring Meeting Agenda
URL:https://cmanc.org/event/cmanc-spring-meeting/
END:VEVENT
BEGIN:VEVENT
DTSTART;VALUE=DATE:20221012
DTEND;VALUE=DATE:20221015
DTSTAMP:20260420T030042
CREATED:20231110T191355Z
LAST-MODIFIED:20231110T191355Z
UID:1094-1665532800-1665791999@cmanc.org
SUMMARY:CMANC Fall Meeting
DESCRIPTION:2022 Fall Meeting Agenda
URL:https://cmanc.org/event/cmanc-fall-meeting/
END:VEVENT
BEGIN:VEVENT
DTSTART;VALUE=DATE:20230228
DTEND;VALUE=DATE:20230302
DTSTAMP:20260420T030042
CREATED:20231110T191508Z
LAST-MODIFIED:20231110T191508Z
UID:1097-1677542400-1677715199@cmanc.org
SUMMARY:2023 Washington Week
DESCRIPTION:2023 Washington Week Agenda \n2023 Washington Week Leave Behind
URL:https://cmanc.org/event/2023-washington-week/
END:VEVENT
BEGIN:VEVENT
DTSTART;VALUE=DATE:20230517
DTEND;VALUE=DATE:20230520
DTSTAMP:20260420T030042
CREATED:20231110T191556Z
LAST-MODIFIED:20231110T191556Z
UID:1101-1684281600-1684540799@cmanc.org
SUMMARY:CMANC Spring Meeting
DESCRIPTION:2023 Spring Meeting Agenda
URL:https://cmanc.org/event/cmanc-spring-meeting-2/
END:VEVENT
BEGIN:VEVENT
DTSTART;VALUE=DATE:20230913
DTEND;VALUE=DATE:20230916
DTSTAMP:20260420T030042
CREATED:20231110T191637Z
LAST-MODIFIED:20231110T191637Z
UID:1104-1694563200-1694822399@cmanc.org
SUMMARY:CMANC Fall Meeting
DESCRIPTION:2023 Fall Meeting Agenda
URL:https://cmanc.org/event/cmanc-fall-meeting-2/
END:VEVENT
BEGIN:VEVENT
DTSTART;VALUE=DATE:20240214
DTEND;VALUE=DATE:20240216
DTSTAMP:20260420T030042
CREATED:20231110T191816Z
LAST-MODIFIED:20240122T220602Z
UID:1111-1707868800-1708041599@cmanc.org
SUMMARY:2024 Washington Week
DESCRIPTION:Our first meeting of 2024 will be in Washington DC.  This will allow us to meet with Members of Congress early in the year without the numerous distractions that happen in March.  Congress to not be in session the weeks of February 19th and February 26th due to the President’s Day Holiday and District Work Periods. \nWe are planning on having our meetings on Wednesday and Thursday\, February 14th and 15th to maximize our ability to meet with Members of Congress. \nThe Golden State Reception will be held on Thursday\, February 15\, 2024\, from 5:30 p.m. to 7:30 p.m. in the House Transportation and Infrastructure Committee Hearing Room. \nWe are working with Julie Minerva and Clay Bryan at Carpi Clay to organize the meetings. \nWe will be staying at the Yotel Hotel on New Jersey Avenue.  Please make your guest room reservations now as last year the Hotel did sell out.   \nYotel Guest Room Link \nThe registration fee is $495.00.  Please use the following link to register.\nCMANC Washington Meeting 2024 Registration Link \nPlease make your air reservations\, at a minimum\, to arrive on Tuesday\, February 13th and to depart on Friday\, February 16th.
URL:https://cmanc.org/event/2024-washington-week/
END:VEVENT
BEGIN:VEVENT
DTSTART;VALUE=DATE:20240515
DTEND;VALUE=DATE:20240518
DTSTAMP:20260420T030042
CREATED:20231110T191744Z
LAST-MODIFIED:20240612T133041Z
UID:1109-1715731200-1715990399@cmanc.org
SUMMARY:2024 Spring Meeting
DESCRIPTION:California Marine Affairs and Navigation Conference \n			\n				\n				\n				\n				\n				CMANC Spring Meeting 2024\n			\n				\n				\n				\n				\n				May 15 – 17\, 2024 | San Diego\, CA\n			\n			\n				\n				\n				\n				\n			\n				\n				\n				\n				\n				\n				\n				\n				\n				\n				\n				Celebrating our 65th year\, CMANC is the premier gathering of ports\, harbors\, Corps of Engineers\, dredging/marine contractors\, service providers\, and consultants. Join us at the Spring Meeting 2024 to gain the latest insights and forecasts impacting ports and harbors! \n			\n				\n				\n				\n				\n				Registration\nConference registration is open. Click here for registration fees and tickets.\n			\n				\n				\n				\n				\n				Agenda Overview \n(click for PDF copy) \n\nWednesday\, May 15\, 2024\n\nBoard of Directors Meeting (afternoon)\nWelcome Reception (evening)\n\nThursday\, May 16\, 2024\n\nRegistration and Continental Breakfast (morning)\nConference and Presentations (all day)\nEvening Reception and Dinner onboard the Emerald Hornblower (courtesy of the Port of San Diego)\n\nFriday\, May 17\, 2024\n\nBreakfast (morning)\nConference and Presentations (morning)\nAdjourn 11:00 a.m.\n\n\n			\n				\n				\n				\n				\n				Location\nWyndham San Diego Bayside\, 1355 North Harbor Drive\, San Diego\, California 92101\n			\n				\n				\n				\n				\n				Lodging\nReservations are available at the Wyndham San Diego Bayside. Book by April 15\, 2024\, to receive the $219/night rate. Click here to reserve your accommodations. \n			\n			\n				\n				\n				\n				\n			\n				\n				\n			\n				\n				\n				\n				\n				\n				\n				\n				\n				\n				\n				\n				\n				\n				\n				\n				\n				\n				North Star Sponsors\n			\n				\n				\n				\n				\n				\n			\n			\n				\n				\n				\n				\n			\n				\n				\n				\n				\n				\n				\n				\n				\n				\n				\n				Gold Sponsors\n			\n			\n				\n				\n				\n				\n			\n				\n				\n				\n				\n				\n				\n				\n				\n				\n				\n				\n			\n			\n				\n				\n				\n				\n				\n				\n				\n				\n				\n				\n			\n			\n				\n				\n				\n				\n			\n				\n				\n				\n				\n				\n				\n				\n				\n				\n				\n				Silver Sponsors
URL:https://cmanc.org/event/2024-spring-meeting/
END:VEVENT
BEGIN:VEVENT
DTSTART;VALUE=DATE:20240911
DTEND;VALUE=DATE:20240914
DTSTAMP:20260420T030042
CREATED:20231110T191708Z
LAST-MODIFIED:20240904T060844Z
UID:1107-1726012800-1726271999@cmanc.org
SUMMARY:2024 Fall Meeting
DESCRIPTION:Dream Inn\, Santa Cruz\, California \nGuest Rooms may be gained by this link: \nGuest Room Reservations \nOr by calling the Hotel at 844-291-9681 \nMeeting Registration is available at this link: \nMeeting Registration \nCMANC Fall Meeting Agenda \n                                  HOST SPONSOR\n \n                                  GOLD SPONSORS\n                                    \n              \n                                     SILVER SPONSORS\n                                            \n  \n  \n                                       
URL:https://cmanc.org/event/2024-fall-meeting/
END:VEVENT
BEGIN:VEVENT
DTSTART;VALUE=DATE:20250211
DTEND;VALUE=DATE:20250215
DTSTAMP:20260420T030042
CREATED:20240612T132745Z
LAST-MODIFIED:20250912T174912Z
UID:1188-1739232000-1739577599@cmanc.org
SUMMARY:Washington Week 2025
DESCRIPTION:CMANC’s Washington Meeting 2025\nFebruary 11 and 12\, 2025 \n\nTuesday\, February 11: We will be in meetings at Corps’ HQ\, OMB\, and BOEM with reception at 5:30.\nWednesday\, February 12: During the day\, we will be on Capitol Hill educating Members of Congress and staff on the value of investing in California’s system of ports and harbors. During the evening\, we will attend the Golden State Reception.\n\nMeeting registration is available at this link: Register Now \nRegistration is $500.00 for CMANC Members\, Federal Government employees\, and first-time non-member attendees. It is $800.00 for non-member attendees who have attended a CMANC meeting in the past. \nRooms available at a discounted rate for CMANC at Yotel Hotel at this link: Yotel Hotel Guest Room Reservations \n \n  \n\n\n\nEvent sponsorship is available as follows: \n\n\n\nLIGHT HOUSE $3\,850 \nA premier sponsorship which includes Name and Logo Listing\, your log linked to your website\, potential for specific subevent sponsorship\, and two registrations included. \nGOLD ANCHOR $2\,500 \nThis is a great opportunity to get your agency/firm’s name in front of decisionmakers. It includes name and logo listing\, logo linked to your web site and one registration included. \nDREDGE CAPTAIN All 2025 Events $5\,000 \nThis is an exceptional offer that includes a full year of sponsorship at CMANC Meetings in 2025. Name and Logo listing\, potential for specific event sponsor at CMANC’s California Meetings. One registration to each meeting is included.\n\n\n\n\n  \n\n\n\nDREDGE CAPTAIN 1-time $1\,850 \nThis is our traditional gold sponsorship that includes name and logo listing. One registration to each meeting is included. \nSurveyor Sponsor $1\,250 \nAs a Surveyor you receive a name listing and one registration is included. \nMate Sponsor $750 \nFor those who will not join us in DC and supports CMANC’s Mission this is a way to show your support. This includes a name listing \n 
URL:https://cmanc.org/event/washington-week-2025-2/
ATTACH;FMTTYPE=image/jpeg:https://cmanc.org/wp-content/uploads/2024/06/Washington-Week-Sponsors.jpg
END:VEVENT
BEGIN:VEVENT
DTSTART;VALUE=DATE:20250514
DTEND;VALUE=DATE:20250517
DTSTAMP:20260420T030042
CREATED:20240612T132827Z
LAST-MODIFIED:20250603T170559Z
UID:1190-1747180800-1747439999@cmanc.org
SUMMARY:Spring Meeting 2025
DESCRIPTION:2025 Spring Meeting\nMay 14 – May 16\, 2025\nFour Points by Sheraton Ventura Harbor Resort\, Ventura\, California \nMeeting registration is available at this link: CMANC’s Spring Meeting 2025 Tickets\, Wed\, May 14\, 2025 at 2:30PM \nGuest rooms are available for $189 until April 14\, 2025\, and may be booked by this link: Guest Room Reservations \nMeeting agenda: [Link]
URL:https://cmanc.org/event/spring-meeting-2025/
END:VEVENT
BEGIN:VEVENT
DTSTART;VALUE=DATE:20250908
DTEND;VALUE=DATE:20250911
DTSTAMP:20260420T030042
CREATED:20250516T211849Z
LAST-MODIFIED:20250908T224001Z
UID:1338-1757289600-1757548799@cmanc.org
SUMMARY:Fall Meeting 2025 - Half Moon Bay
DESCRIPTION:CMANC’S Fall Meeting 2025\nMonday September 8th\, 2025 – September 10th\, 2025 \nPremier gathering in California of ports\, harbors\, Corps of Engineers\, dredging/marine contractors\, service providers\, and consultants.\nOceano Hotel & Spa Half Moon Bay Harbor\n280 Capistrano Road\nHalf Moon Bay\, CA  95019 \nClick here to get tickets \nHotel: Group hotel booking info: Rooms available for $255/night\, until sold out. Link: https://www.resontheweb.com/NavigationServlet?f100=316&HotelCode=4461&f201=20250908&f203=1&f254=B02F25 \nCMANC 2025 Fall Agenda Draft \nAbout this event \n\n\n\n\n\nJoin CMANC in our 66th year as the premier regional port and harbor association in the nation\, working with our federal and state partners as we promote the operation\, maintenance and improvement of California harbors\, ports and navigation projects that demonstrate responsible stewardship and benefit the regional and national economy. \nGet insights and forecasts impacting ports and harbors . \nHear from “Washington Insiders” on Appropriations for FY 2026\, WRDA 2026 preparations\, and future grant opportunities. \nWhat is the Project Delivery Team and how to participate. \nCalifornia’s strategic and port readiness ports. \nWhat is the latests on USACE navigation and coastal projects in California. \nThese subjects and more will be discussed at CMANC’s Fall Meeting 2025.
URL:https://cmanc.org/event/spring-meeting-2025-hmb/
LOCATION:Oceano Hotel\, Half Moon Bay\, 280 Capistrano Road\, Half Moon Bay\, CA\, 94019\, United States
END:VEVENT
BEGIN:VEVENT
DTSTART;VALUE=DATE:20260210
DTEND;VALUE=DATE:20260212
DTSTAMP:20260420T030042
CREATED:20250520T141224Z
LAST-MODIFIED:20251230T213852Z
UID:1352-1770681600-1770854399@cmanc.org
SUMMARY:Washington Week 2026
DESCRIPTION:CMANC’s Washington Meeting 2026\nFebruary 10-11\, 2026. \n\nDay 1 – Tuesday\, February 10:  We are scheduling meetings at Corps’ HQ\, OMB\, and other federal agencies. Which agencies do you want to meet with?  Tell Jim who you want to meet with and what you want to talk about!\nDay 2 – Wednesday\, February 11: During the day\, we will be on Capitol Hill educating Members of Congress and staff on the value of investing in California’s system of ports and harbors. During the evening\, we will attend the Golden State Reception. Tell Jim who you want to meet with and what you want to talk about!\n\nMeeting registration link: \nRegistration is $500.00 for CMANC Members\, Federal Government employees\, and first-time non-member attendees. It is $800.00 for non-member attendees who have attended a CMANC meeting in the past. \nGuest room link at Royal Sonesta Hotel: \nThe Royal Sonesta Hotel is at 20 Massachusetts Ave.\, N.W.\, Washington DC.  At one point this was the Corps’ Headquarters.  Our guest room rate is $249.00 per night. \n \n  \n\n\n\nEvent sponsorship is available as follows: \n\n\n\n\nLIGHTHOUSE $6\,000 \n(Incl. 1 registration per meeting)\nIncludes one registration at three meetings in a row. Have your logo listed on web site before registration starts. Display logo on all meeting materials\, name announced throughout the meeting. Introduction of a speaker at the in Fall/Spring meetings. Qualifies for breakfast or lunch/Golden State Reception sponsorship as requested \nGOLD ANCHOR $3\,500 \n(Incl. 2 registrations this meeting)\nIncludes Two CMANC Member Registrations. We will display your logo and name on all meeting materials. You will be recognized throughout the meeting. And\, introduction of a speaker\, possibly of choice. Qualifies for breakfast or lunch/ /Golden State Reception sponsorship as requested \n \n\n\n\n\n  \n\n\n\n\nDREDGE CAPTAIN $1\,800 \n(Incl. 1 registration)\nThis one-person registration includes a Captain Sponsorship\, which includes displaying your logo on meeting materials\, name announcement during the meeting\, and introduction of a speaker. Qualifies for breakfast or lunch sponsorship as requested. \nSurveyor Sponsor $1\,200\nThis one-person registration includes a Surveyor Sponsorship\, which includes your logo on meeting  materials and name announcement during the meetings. \nMate Sponsor $600\nFor those not attending and wishing to financially support CMANC’s DC Meeting this includes your logo on\nmeeting materials and name announcement during the meetings. \n 
URL:https://cmanc.org/event/washington-week-2026/
END:VEVENT
BEGIN:VEVENT
DTSTART;VALUE=DATE:20260513
DTEND;VALUE=DATE:20260516
DTSTAMP:20260420T030042
CREATED:20250520T141727Z
LAST-MODIFIED:20260316T184851Z
UID:1355-1778630400-1778889599@cmanc.org
SUMMARY:Spring Meeting 2026 - Newport Beach
DESCRIPTION:2026 Spring Meeting\nMay 13 – May 15\, 2026\nHyatt Regency Newport Beach \n1107 Jamboree Road \nNewport Beach\, California  92660 \nThe Hyatt Regency is adjacent to the Upper Newport Bay Ecological Reserve. \nWe will have a tour of the current dredging taking place in Newport Harbor via the Balboa Island Ferry. \nRegistration: link is here. \nHotel: link is here. \nMeeting agenda: \n\nMay 13: 5:30 PM Reception\nMay 14: 8:30 AM to 5 PM\nMay 14: Dinner Reception\nMay 15: 8:30 AM to 11:30 AM\n\n(Detailed agenda in process) \n			\n			\n				\n				\n				\n				\n			\n				\n				\n				\n				\n				\n				\n				\n				\n				\n				\n				Host Sponsor\n			\n			\n				\n				\n				\n				\n			\n				\n				\n				\n				\n				\n				\n				\n				\n				\n				\n				CITY OF NEWPORT BEACH \n			\n			\n				\n				\n				\n				\n			\n				\n				\n				\n				\n				\n				\n				\n				\n				\n				\n				Lighthouse Sponsors\n			\n			\n				\n				\n				\n				\n			\n				\n				\n				\n				\n				\n				\n			\n				\n				\n				\n				\n				\n				\n				\n				\n				\n				PORT OF OAKLAND \nPORT OF SAN DIEGO \nPORT OF STOCKTON \nSAN MATEO COUNTY HARBOR DISTRICT
URL:https://cmanc.org/event/spring-meeting-2026/
END:VEVENT
BEGIN:VEVENT
DTSTART;VALUE=DATE:20260909
DTEND;VALUE=DATE:20260912
DTSTAMP:20260420T030042
CREATED:20250520T142331Z
LAST-MODIFIED:20250520T142334Z
UID:1359-1788912000-1789171199@cmanc.org
SUMMARY:Fall Meeting 2026
DESCRIPTION:2026 Fall Meeting\nSeptember 9 – September 11\, 2026\nNorthern California Region. \nOur Fall Meeting will be held in Northern California\, location to be determined in early 2026. \nRegistration link will be provided in by June 2026. \nGuest rooms link will be provided by June 2026. \nMeeting agenda: in process \n			\n			\n				\n				\n				\n				\n			\n				\n				\n				\n				\n				\n				\n				\n				\n				\n				\n				Host Sponsors\n			\n			\n				\n				\n				\n				\n			\n				\n				\n				\n				\n				\n				\n				\n				\n				\n				\n				Gold Sponsors
URL:https://cmanc.org/event/fall-meeting-2026/
END:VEVENT
END:VCALENDAR